BEGIN:VCALENDAR
VERSION:2.0
PRODID:-//https://www.daiquiridecksa.cdmsrq.info///NONSGML kigkonsult.se iCalcreator 2.10.15//
METHOD:PUBLISH
BEGIN:VEVENT
UID:20260425T153834UTC-0388W3nwHR@https://www.daiquiridecksa.cdmsrq.info/
DTSTAMP:20260425T153834Z
DESCRIPTION: https://www.daiquiridecksa.cdmsrq.info/component/rseventspro/e
 vent/3870-11a-sarah-santiago?Itemid=101
DTSTART;VALUE=DATE:20260427
LOCATION:Daiquiri Deck St. Armands Circle (325 John Ringling Blvd\, Sarasot
 a\, FL 34236)
SUMMARY:11a Sarah Santiago
URL:https://www.daiquiridecksa.cdmsrq.info/component/rseventspro/event/3870
 -11a-sarah-santiago?Itemid=101
END:VEVENT
END:VCALENDAR
