BEGIN:VCALENDAR
VERSION:2.0
PRODID:-//https://www.daiquiridecksa.cdmsrq.info///NONSGML kigkonsult.se iCalcreator 2.10.15//
METHOD:PUBLISH
BEGIN:VEVENT
UID:20260425T163816UTC-3492n2t4Ij@https://www.daiquiridecksa.cdmsrq.info/
DTSTAMP:20260425T163816Z
DESCRIPTION: https://www.daiquiridecksa.cdmsrq.info/component/rseventspro/e
 vent/3896-3p-jason-white?Itemid=101
DTSTART;VALUE=DATE:20260422
LOCATION:Daiquiri Deck Bradenton Beach (107 Bridge St\, Bradenton Beach\, F
 L 34217)
SUMMARY:3p Jason White
URL:https://www.daiquiridecksa.cdmsrq.info/component/rseventspro/event/3896
 -3p-jason-white?Itemid=101
END:VEVENT
END:VCALENDAR
