BEGIN:VCALENDAR
VERSION:2.0
PRODID:-//https://www.daiquiridecksa.cdmsrq.info///NONSGML kigkonsult.se iCalcreator 2.10.15//
METHOD:PUBLISH
BEGIN:VEVENT
UID:20260425T170733UTC-1176kJOA3f@https://www.daiquiridecksa.cdmsrq.info/
DTSTAMP:20260425T170733Z
DESCRIPTION: https://www.daiquiridecksa.cdmsrq.info/component/rseventspro/e
 vent/3927-4p-gulf-coastin-life?Itemid=101
DTSTART;VALUE=DATE:20260422
LOCATION:Daiquiri Deck Island of Venice (300 W Venice Ave\, Venice\, FL 342
 85)
SUMMARY:4p Gulf Coastin.Life
URL:https://www.daiquiridecksa.cdmsrq.info/component/rseventspro/event/3927
 -4p-gulf-coastin-life?Itemid=101
END:VEVENT
END:VCALENDAR
