BEGIN:VCALENDAR
VERSION:2.0
PRODID:-//https://www.daiquiridecksa.cdmsrq.info///NONSGML kigkonsult.se iCalcreator 2.10.15//
METHOD:PUBLISH
BEGIN:VEVENT
UID:20260425T153351UTC-0398pv6rcE@https://www.daiquiridecksa.cdmsrq.info/
DTSTAMP:20260425T153351Z
DESCRIPTION: https://www.daiquiridecksa.cdmsrq.info/component/rseventspro/e
 vent/3933-12p-lonnie-paul?Itemid=101
DTSTART;VALUE=DATE:20260428
LOCATION:Daiquiri Deck Island of Venice (300 W Venice Ave\, Venice\, FL 342
 85)
SUMMARY:12p Lonnie Paul
URL:https://www.daiquiridecksa.cdmsrq.info/component/rseventspro/event/3933
 -12p-lonnie-paul?Itemid=101
END:VEVENT
END:VCALENDAR
