BEGIN:VCALENDAR
VERSION:2.0
PRODID:-//https://www.daiquiridecksa.cdmsrq.info///NONSGML kigkonsult.se iCalcreator 2.10.15//
METHOD:PUBLISH
BEGIN:VEVENT
UID:20260425T170441UTC-0076rupUgU@https://www.daiquiridecksa.cdmsrq.info/
DTSTAMP:20260425T170441Z
DESCRIPTION: https://www.daiquiridecksa.cdmsrq.info/component/rseventspro/e
 vent/3967-4p-sarah-santiago?Itemid=101
DTSTART;VALUE=DATE:20260421
LOCATION:Daiquiri Deck Siesta Key Village (5250 Ocean Blvd\, Sarasota\, FL 
 34242)
SUMMARY:4p Sarah Santiago 
URL:https://www.daiquiridecksa.cdmsrq.info/component/rseventspro/event/3967
 -4p-sarah-santiago?Itemid=101
END:VEVENT
END:VCALENDAR
