BEGIN:VCALENDAR
VERSION:2.0
PRODID:-//https://www.daiquiridecksa.cdmsrq.info///NONSGML kigkonsult.se iCalcreator 2.10.15//
METHOD:PUBLISH
BEGIN:VEVENT
UID:20260425T165000UTC-7037SwuuBK@https://www.daiquiridecksa.cdmsrq.info/
DTSTAMP:20260425T165000Z
DESCRIPTION: https://www.daiquiridecksa.cdmsrq.info/component/rseventspro/e
 vent/3968-3p-the-cat-house?Itemid=101
DTSTART;VALUE=DATE:20260422
LOCATION:Daiquiri Deck Siesta Key Village (5250 Ocean Blvd\, Sarasota\, FL 
 34242)
SUMMARY:3p The Cat House  
URL:https://www.daiquiridecksa.cdmsrq.info/component/rseventspro/event/3968
 -3p-the-cat-house?Itemid=101
END:VEVENT
END:VCALENDAR
