BEGIN:VCALENDAR
VERSION:2.0
PRODID:-//https://www.daiquiridecksa.cdmsrq.info///NONSGML kigkonsult.se iCalcreator 2.10.15//
METHOD:PUBLISH
BEGIN:VEVENT
UID:20260425T163948UTC-7676tSlTFu@https://www.daiquiridecksa.cdmsrq.info/
DTSTAMP:20260425T163948Z
DESCRIPTION: https://www.daiquiridecksa.cdmsrq.info/component/rseventspro/e
 vent/3971-8p-sam-the-bull?Itemid=101
DTSTART;VALUE=DATE:20260423
LOCATION:Daiquiri Deck Siesta Key Village (5250 Ocean Blvd\, Sarasota\, FL 
 34242)
SUMMARY:  8p Sam The Bull 
URL:https://www.daiquiridecksa.cdmsrq.info/component/rseventspro/event/3971
 -8p-sam-the-bull?Itemid=101
END:VEVENT
END:VCALENDAR
