BEGIN:VCALENDAR
VERSION:2.0
PRODID:-//https://www.daiquiridecksa.cdmsrq.info///NONSGML kigkonsult.se iCalcreator 2.10.15//
METHOD:PUBLISH
BEGIN:VEVENT
UID:20260425T153137UTC-5103PXnK5c@https://www.daiquiridecksa.cdmsrq.info/
DTSTAMP:20260425T153137Z
DESCRIPTION: https://www.daiquiridecksa.cdmsrq.info/component/rseventspro/e
 vent/3975-9p-dj-truth?Itemid=101
DTSTART;VALUE=DATE:20260425
LOCATION:Daiquiri Deck Siesta Key Village (5250 Ocean Blvd\, Sarasota\, FL 
 34242)
SUMMARY: 9p DJ Truth
URL:https://www.daiquiridecksa.cdmsrq.info/component/rseventspro/event/3975
 -9p-dj-truth?Itemid=101
END:VEVENT
END:VCALENDAR
