BEGIN:VCALENDAR
VERSION:2.0
PRODID:-//https://www.daiquiridecksa.cdmsrq.info///NONSGML kigkonsult.se iCalcreator 2.10.15//
METHOD:PUBLISH
BEGIN:VEVENT
UID:20260425T152129UTC-3227K4Bnms@https://www.daiquiridecksa.cdmsrq.info/
DTSTAMP:20260425T152129Z
DESCRIPTION: https://www.daiquiridecksa.cdmsrq.info/component/rseventspro/e
 vent/3979-3p-chris-connelly?Itemid=101
DTSTART;VALUE=DATE:20260429
LOCATION:Daiquiri Deck Siesta Key Village (5250 Ocean Blvd\, Sarasota\, FL 
 34242)
SUMMARY:3p Chris Connelly 
URL:https://www.daiquiridecksa.cdmsrq.info/component/rseventspro/event/3979
 -3p-chris-connelly?Itemid=101
END:VEVENT
END:VCALENDAR
