BEGIN:VCALENDAR
VERSION:2.0
PRODID:-//https://www.daiquiridecksa.cdmsrq.info///NONSGML kigkonsult.se iCalcreator 2.10.15//
METHOD:PUBLISH
BEGIN:VEVENT
UID:20260425T153308UTC-4108RfpJPu@https://www.daiquiridecksa.cdmsrq.info/
DTSTAMP:20260425T153308Z
DESCRIPTION: https://www.daiquiridecksa.cdmsrq.info/component/rseventspro/e
 vent/3980-9p-dj-sam-the-bull?Itemid=101
DTSTART;VALUE=DATE:20260429
LOCATION:Daiquiri Deck Siesta Key Village (5250 Ocean Blvd\, Sarasota\, FL 
 34242)
SUMMARY: 9p DJ Sam The Bull
URL:https://www.daiquiridecksa.cdmsrq.info/component/rseventspro/event/3980
 -9p-dj-sam-the-bull?Itemid=101
END:VEVENT
END:VCALENDAR
