BEGIN:VCALENDAR
VERSION:2.0
PRODID:-//https://www.daiquiridecksa.cdmsrq.info///NONSGML kigkonsult.se iCalcreator 2.10.15//
METHOD:PUBLISH
BEGIN:VEVENT
UID:20260425T170441UTC-4761j47X2T@https://www.daiquiridecksa.cdmsrq.info/
DTSTAMP:20260425T170441Z
DESCRIPTION: https://www.daiquiridecksa.cdmsrq.info/component/rseventspro/e
 vent/3984-3p-sarah-santiago?Itemid=101
DTSTART;VALUE=DATE:20260502
LOCATION:Daiquiri Deck Siesta Key Village (5250 Ocean Blvd\, Sarasota\, FL 
 34242)
SUMMARY:3p Sarah Santiago
URL:https://www.daiquiridecksa.cdmsrq.info/component/rseventspro/event/3984
 -3p-sarah-santiago?Itemid=101
END:VEVENT
END:VCALENDAR
