BEGIN:VCALENDAR
VERSION:2.0
PRODID:-//https://www.daiquiridecksa.cdmsrq.info///NONSGML kigkonsult.se iCalcreator 2.10.15//
METHOD:PUBLISH
BEGIN:VEVENT
UID:20260425T211345UTC-0047O9kDsf@https://www.daiquiridecksa.cdmsrq.info/
DTSTAMP:20260425T211345Z
DESCRIPTION: https://www.daiquiridecksa.cdmsrq.info/component/rseventspro/e
 vent/3991-8p-dj-sam-the-bull-karaoke?Itemid=101
DTSTART;VALUE=DATE:20260506
LOCATION:Daiquiri Deck Siesta Key Village (5250 Ocean Blvd\, Sarasota\, FL 
 34242)
SUMMARY: 8p DJ Sam The Bull Karaoke
URL:https://www.daiquiridecksa.cdmsrq.info/component/rseventspro/event/3991
 -8p-dj-sam-the-bull-karaoke?Itemid=101
END:VEVENT
END:VCALENDAR
