BEGIN:VCALENDAR
VERSION:2.0
PRODID:-//https://www.daiquiridecksa.cdmsrq.info///NONSGML kigkonsult.se iCalcreator 2.10.15//
METHOD:PUBLISH
BEGIN:VEVENT
UID:20260426T013713UTC-8801mN7Ma2@https://www.daiquiridecksa.cdmsrq.info/
DTSTAMP:20260426T013713Z
DESCRIPTION: https://www.daiquiridecksa.cdmsrq.info/component/rseventspro/e
 vent/3996-9p-dj-jimmy-t?Itemid=101
DTSTART;VALUE=DATE:20260509
LOCATION:Daiquiri Deck Siesta Key Village (5250 Ocean Blvd\, Sarasota\, FL 
 34242)
SUMMARY:9p DJ Jimmy T
URL:https://www.daiquiridecksa.cdmsrq.info/component/rseventspro/event/3996
 -9p-dj-jimmy-t?Itemid=101
END:VEVENT
END:VCALENDAR
