BEGIN:VCALENDAR
VERSION:2.0
PRODID:-//https://www.daiquiridecksa.cdmsrq.info///NONSGML kigkonsult.se iCalcreator 2.10.15//
METHOD:PUBLISH
BEGIN:VEVENT
UID:20260425T183114UTC-0167KcutrN@https://www.daiquiridecksa.cdmsrq.info/
DTSTAMP:20260425T183114Z
DESCRIPTION: https://www.daiquiridecksa.cdmsrq.info/component/rseventspro/e
 vent/4023-8p-dj-sam-the-bull-karaoke?Itemid=101
DTSTART;VALUE=DATE:20260528
LOCATION:Daiquiri Deck Siesta Key Village (5250 Ocean Blvd\, Sarasota\, FL 
 34242)
SUMMARY: 8p DJ Sam the Bull Karaoke
URL:https://www.daiquiridecksa.cdmsrq.info/component/rseventspro/event/4023
 -8p-dj-sam-the-bull-karaoke?Itemid=101
END:VEVENT
END:VCALENDAR
