BEGIN:VCALENDAR
VERSION:2.0
PRODID:-//https://www.daiquiridecksa.cdmsrq.info///NONSGML kigkonsult.se iCalcreator 2.10.15//
METHOD:PUBLISH
BEGIN:VEVENT
UID:20260425T182755UTC-7290B7vzIr@https://www.daiquiridecksa.cdmsrq.info/
DTSTAMP:20260425T182755Z
DESCRIPTION: https://www.daiquiridecksa.cdmsrq.info/component/rseventspro/e
 vent/4024-3p-lynn-andrew-duo?Itemid=101
DTSTART;VALUE=DATE:20260529
LOCATION:Daiquiri Deck Siesta Key Village (5250 Ocean Blvd\, Sarasota\, FL 
 34242)
SUMMARY:3p Lynn & Andrew Duo 
URL:https://www.daiquiridecksa.cdmsrq.info/component/rseventspro/event/4024
 -3p-lynn-andrew-duo?Itemid=101
END:VEVENT
END:VCALENDAR
