BEGIN:VCALENDAR
VERSION:2.0
PRODID:-//https://www.daiquiridecksa.cdmsrq.info///NONSGML kigkonsult.se iCalcreator 2.10.15//
METHOD:PUBLISH
BEGIN:VEVENT
UID:20260425T181804UTC-32638J78AR@https://www.daiquiridecksa.cdmsrq.info/
DTSTAMP:20260425T181804Z
DESCRIPTION: https://www.daiquiridecksa.cdmsrq.info/component/rseventspro/e
 vent/4084-3p-florida-keys-piano-show?Itemid=101
DTSTART;VALUE=DATE:20260517
LOCATION:Daiquiri Deck St. Armands Circle (325 John Ringling Blvd\, Sarasot
 a\, FL 34236)
SUMMARY:3p Florida Keys Piano Show
URL:https://www.daiquiridecksa.cdmsrq.info/component/rseventspro/event/4084
 -3p-florida-keys-piano-show?Itemid=101
END:VEVENT
END:VCALENDAR
