BEGIN:VCALENDAR
VERSION:2.0
PRODID:-//https://www.daiquiridecksa.cdmsrq.info///NONSGML kigkonsult.se iCalcreator 2.10.15//
METHOD:PUBLISH
BEGIN:VEVENT
UID:20260425T181718UTC-3445V6dx8T@https://www.daiquiridecksa.cdmsrq.info/
DTSTAMP:20260425T181718Z
DESCRIPTION: https://www.daiquiridecksa.cdmsrq.info/component/rseventspro/e
 vent/4085-12p-frankie-lombardi?Itemid=101
DTSTART;VALUE=DATE:20260518
LOCATION:Daiquiri Deck St. Armands Circle (325 John Ringling Blvd\, Sarasot
 a\, FL 34236)
SUMMARY:12p Frankie Lombardi
URL:https://www.daiquiridecksa.cdmsrq.info/component/rseventspro/event/4085
 -12p-frankie-lombardi?Itemid=101
END:VEVENT
END:VCALENDAR
