BEGIN:VCALENDAR
VERSION:2.0
PRODID:-//https://www.daiquiridecksa.cdmsrq.info///NONSGML kigkonsult.se iCalcreator 2.10.15//
METHOD:PUBLISH
BEGIN:VEVENT
UID:20260425T180412UTC-0496vVJgsu@https://www.daiquiridecksa.cdmsrq.info/
DTSTAMP:20260425T180412Z
DESCRIPTION: https://www.daiquiridecksa.cdmsrq.info/component/rseventspro/e
 vent/4099-6p-flash-back-friday-karaoke?Itemid=101
DTSTART;VALUE=DATE:20260529
LOCATION:Daiquiri Deck St. Armands Circle (325 John Ringling Blvd\, Sarasot
 a\, FL 34236)
SUMMARY:  6p Flash Back Friday Karaoke
URL:https://www.daiquiridecksa.cdmsrq.info/component/rseventspro/event/4099
 -6p-flash-back-friday-karaoke?Itemid=101
END:VEVENT
END:VCALENDAR
