BEGIN:VCALENDAR
VERSION:2.0
PRODID:-//https://www.daiquiridecksa.cdmsrq.info///NONSGML kigkonsult.se iCalcreator 2.10.15//
METHOD:PUBLISH
BEGIN:VEVENT
UID:20260425T153146UTC-3477Lde4Mo@https://www.daiquiridecksa.cdmsrq.info/
DTSTAMP:20260425T153146Z
DESCRIPTION: https://www.daiquiridecksa.cdmsrq.info/component/rseventspro/e
 vent/4103-6p-ken-apperson?Itemid=101
DTSTART;VALUE=DATE:20260501
LOCATION:Daiquiri Deck Bradenton Beach (107 Bridge St\, Bradenton Beach\, F
 L 34217)
SUMMARY:6p Ken Apperson
URL:https://www.daiquiridecksa.cdmsrq.info/component/rseventspro/event/4103
 -6p-ken-apperson?Itemid=101
END:VEVENT
END:VCALENDAR
