BEGIN:VCALENDAR
VERSION:2.0
PRODID:-//https://www.daiquiridecksa.cdmsrq.info///NONSGML kigkonsult.se iCalcreator 2.10.15//
METHOD:PUBLISH
BEGIN:VEVENT
UID:20260425T181327UTC-4908v1299u@https://www.daiquiridecksa.cdmsrq.info/
DTSTAMP:20260425T181327Z
DESCRIPTION: https://www.daiquiridecksa.cdmsrq.info/component/rseventspro/e
 vent/4114-3p-jason-white?Itemid=101
DTSTART;VALUE=DATE:20260513
LOCATION:Daiquiri Deck Bradenton Beach (107 Bridge St\, Bradenton Beach\, F
 L 34217)
SUMMARY:3p Jason White
URL:https://www.daiquiridecksa.cdmsrq.info/component/rseventspro/event/4114
 -3p-jason-white?Itemid=101
END:VEVENT
END:VCALENDAR
