BEGIN:VCALENDAR
VERSION:2.0
PRODID:-//https://www.daiquiridecksa.cdmsrq.info///NONSGML kigkonsult.se iCalcreator 2.10.15//
METHOD:PUBLISH
BEGIN:VEVENT
UID:20260425T175418UTC-9814nXkpS5@https://www.daiquiridecksa.cdmsrq.info/
DTSTAMP:20260425T175418Z
DESCRIPTION: https://www.daiquiridecksa.cdmsrq.info/component/rseventspro/e
 vent/4119-3p-tim-mccaig?Itemid=101
DTSTART;VALUE=DATE:20260518
LOCATION:Daiquiri Deck Bradenton Beach (107 Bridge St\, Bradenton Beach\, F
 L 34217)
SUMMARY:3p Tim McCaig
URL:https://www.daiquiridecksa.cdmsrq.info/component/rseventspro/event/4119
 -3p-tim-mccaig?Itemid=101
END:VEVENT
END:VCALENDAR
