BEGIN:VCALENDAR
VERSION:2.0
PRODID:-//https://www.daiquiridecksa.cdmsrq.info///NONSGML kigkonsult.se iCalcreator 2.10.15//
METHOD:PUBLISH
BEGIN:VEVENT
UID:20260425T194132UTC-6742TuNujo@https://www.daiquiridecksa.cdmsrq.info/
DTSTAMP:20260425T194132Z
DESCRIPTION: https://www.daiquiridecksa.cdmsrq.info/component/rseventspro/e
 vent/4137-12-aaron-kelly?Itemid=101
DTSTART;VALUE=DATE:20260505
LOCATION:Daiquiri Deck Island of Venice (300 W Venice Ave\, Venice\, FL 342
 85)
SUMMARY:12 Aaron Kelly
URL:https://www.daiquiridecksa.cdmsrq.info/component/rseventspro/event/4137
 -12-aaron-kelly?Itemid=101
END:VEVENT
END:VCALENDAR
