BEGIN:VCALENDAR
VERSION:2.0
PRODID:-//https://www.daiquiridecksa.cdmsrq.info///NONSGML kigkonsult.se iCalcreator 2.10.15//
METHOD:PUBLISH
BEGIN:VEVENT
UID:20260425T181225UTC-2929wLumEw@https://www.daiquiridecksa.cdmsrq.info/
DTSTAMP:20260425T181225Z
DESCRIPTION: https://www.daiquiridecksa.cdmsrq.info/component/rseventspro/e
 vent/4149-5p-jay-simon?Itemid=101
DTSTART;VALUE=DATE:20260517
LOCATION:Daiquiri Deck Island of Venice (300 W Venice Ave\, Venice\, FL 342
 85)
SUMMARY:5p Jay Simon
URL:https://www.daiquiridecksa.cdmsrq.info/component/rseventspro/event/4149
 -5p-jay-simon?Itemid=101
END:VEVENT
END:VCALENDAR
