BEGIN:VCALENDAR
VERSION:2.0
PRODID:-//https://www.daiquiridecksa.cdmsrq.info///NONSGML kigkonsult.se iCalcreator 2.10.15//
METHOD:PUBLISH
BEGIN:VEVENT
UID:20260425T182245UTC-6293vcjhwr@https://www.daiquiridecksa.cdmsrq.info/
DTSTAMP:20260425T182245Z
DESCRIPTION: https://www.daiquiridecksa.cdmsrq.info/component/rseventspro/e
 vent/4150-12p-joey-d?Itemid=101
DTSTART;VALUE=DATE:20260518
LOCATION:Daiquiri Deck Island of Venice (300 W Venice Ave\, Venice\, FL 342
 85)
SUMMARY:12p Joey D
URL:https://www.daiquiridecksa.cdmsrq.info/component/rseventspro/event/4150
 -12p-joey-d?Itemid=101
END:VEVENT
END:VCALENDAR
