BEGIN:VCALENDAR
VERSION:2.0
PRODID:-//https://www.daiquiridecksa.cdmsrq.info///NONSGML kigkonsult.se iCalcreator 2.10.15//
METHOD:PUBLISH
BEGIN:VEVENT
UID:20260425T182152UTC-0860vInem3@https://www.daiquiridecksa.cdmsrq.info/
DTSTAMP:20260425T182152Z
DESCRIPTION: https://www.daiquiridecksa.cdmsrq.info/component/rseventspro/e
 vent/4161-4p-ryan-judy?Itemid=101
DTSTART;VALUE=DATE:20260529
LOCATION:Daiquiri Deck Island of Venice (300 W Venice Ave\, Venice\, FL 342
 85)
SUMMARY:4p Ryan Judy
URL:https://www.daiquiridecksa.cdmsrq.info/component/rseventspro/event/4161
 -4p-ryan-judy?Itemid=101
END:VEVENT
END:VCALENDAR
