BEGIN:VCALENDAR
VERSION:2.0
PRODID:-//https://www.daiquiridecksa.cdmsrq.info///NONSGML kigkonsult.se iCalcreator 2.10.15//
METHOD:PUBLISH
BEGIN:VEVENT
UID:20260425T182222UTC-9237kCfsb7@https://www.daiquiridecksa.cdmsrq.info/
DTSTAMP:20260425T182222Z
DESCRIPTION: https://www.daiquiridecksa.cdmsrq.info/component/rseventspro/e
 vent/4172-6p-vince-b?Itemid=101
DTSTART;VALUE=DATE:20260522
LOCATION:Daiquiri Deck Island of Venice (300 W Venice Ave\, Venice\, FL 342
 85)
SUMMARY:  6p Vince B
URL:https://www.daiquiridecksa.cdmsrq.info/component/rseventspro/event/4172
 -6p-vince-b?Itemid=101
END:VEVENT
END:VCALENDAR
